BEGIN:VCALENDAR
VERSION:2.0
PRODID:-//Data Recycling of New England, Inc. - ECPv6.15.20//NONSGML v1.0//EN
CALSCALE:GREGORIAN
METHOD:PUBLISH
X-WR-CALNAME:Data Recycling of New England, Inc.
X-ORIGINAL-URL:https://datarecyclingne.com
X-WR-CALDESC:Events for Data Recycling of New England, Inc.
REFRESH-INTERVAL;VALUE=DURATION:PT1H
X-Robots-Tag:noindex
X-PUBLISHED-TTL:PT1H
BEGIN:VTIMEZONE
TZID:America/New_York
BEGIN:DAYLIGHT
TZOFFSETFROM:-0500
TZOFFSETTO:-0400
TZNAME:EDT
DTSTART:20250309T070000
END:DAYLIGHT
BEGIN:STANDARD
TZOFFSETFROM:-0400
TZOFFSETTO:-0500
TZNAME:EST
DTSTART:20251102T060000
END:STANDARD
BEGIN:DAYLIGHT
TZOFFSETFROM:-0500
TZOFFSETTO:-0400
TZNAME:EDT
DTSTART:20260308T070000
END:DAYLIGHT
BEGIN:STANDARD
TZOFFSETFROM:-0400
TZOFFSETTO:-0500
TZNAME:EST
DTSTART:20261101T060000
END:STANDARD
BEGIN:DAYLIGHT
TZOFFSETFROM:-0500
TZOFFSETTO:-0400
TZNAME:EDT
DTSTART:20270314T070000
END:DAYLIGHT
BEGIN:STANDARD
TZOFFSETFROM:-0400
TZOFFSETTO:-0500
TZNAME:EST
DTSTART:20271107T060000
END:STANDARD
END:VTIMEZONE
BEGIN:VEVENT
DTSTART;TZID=America/New_York:20260425T090000
DTEND;TZID=America/New_York:20260425T120000
DTSTAMP:20260423T102245
CREATED:20260407T192321Z
LAST-MODIFIED:20260408T194748Z
UID:6069-1777107600-1777118400@datarecyclingne.com
SUMMARY:Milford First Congretional Church
DESCRIPTION:
URL:https://datarecyclingne.com/event/milford-first-congretional-church/
LOCATION:Milford First Congregational Church\, 4 Congress Street\, Milford\, 01757\, United States
ATTACH;FMTTYPE=image/png:https://datarecyclingne.com/wp-content/uploads/2025/02/Green-and-Yellow-Illustrated-Reduce-Reuse-Recycle-Poster-1.png
END:VEVENT
BEGIN:VEVENT
DTSTART;TZID=America/New_York:20260425T090000
DTEND;TZID=America/New_York:20260425T130000
DTSTAMP:20260423T102245
CREATED:20260407T192304Z
LAST-MODIFIED:20260408T194904Z
UID:6068-1777107600-1777122000@datarecyclingne.com
SUMMARY:Whitman & Hanson - Dollars for Scholars
DESCRIPTION:
URL:https://datarecyclingne.com/event/whitman-hanson-dollars-for-scholars/
LOCATION:Indian Head Elementary School\, 726 Indian Head Street\, Hanson\, MA\, 02341\, United States
ATTACH;FMTTYPE=image/png:https://datarecyclingne.com/wp-content/uploads/2025/02/Green-and-Yellow-Illustrated-Reduce-Reuse-Recycle-Poster-1.png
END:VEVENT
BEGIN:VEVENT
DTSTART;TZID=America/New_York:20260502T090000
DTEND;TZID=America/New_York:20260502T120000
DTSTAMP:20260423T102245
CREATED:20260407T192321Z
LAST-MODIFIED:20260408T195026Z
UID:6070-1777712400-1777723200@datarecyclingne.com
SUMMARY:Medford Public Schools PTO
DESCRIPTION:
URL:https://datarecyclingne.com/event/medford-public-schools-pto/
LOCATION:McGlynn Middle School\, 3002 Mystic Valley Parkway\, Medford\, MA\, 02155\, United States
ATTACH;FMTTYPE=image/png:https://datarecyclingne.com/wp-content/uploads/2025/02/Green-and-Yellow-Illustrated-Reduce-Reuse-Recycle-Poster-1.png
END:VEVENT
BEGIN:VEVENT
DTSTART;TZID=America/New_York:20260502T090000
DTEND;TZID=America/New_York:20260502T140000
DTSTAMP:20260423T102245
CREATED:20260407T192321Z
LAST-MODIFIED:20260408T200202Z
UID:6071-1777712400-1777730400@datarecyclingne.com
SUMMARY:Medfield Transfer Station
DESCRIPTION:
URL:https://datarecyclingne.com/event/medfield-transfer-station/
LOCATION:Medfield Transfer Station\, 123 North Meadows Rd.\, Medfield\, MA\, 02502\, United States
ATTACH;FMTTYPE=image/jpeg:https://datarecyclingne.com/wp-content/uploads/2026/04/Medfield-Promo.jpg
END:VEVENT
BEGIN:VEVENT
DTSTART;TZID=America/New_York:20260509T090000
DTEND;TZID=America/New_York:20260509T130000
DTSTAMP:20260423T102245
CREATED:20260407T192522Z
LAST-MODIFIED:20260408T200023Z
UID:6073-1778317200-1778331600@datarecyclingne.com
SUMMARY:Lawrence School
DESCRIPTION:
URL:https://datarecyclingne.com/event/lawrence-school/
LOCATION:Lawrence School\, 113 Lakeview Ave\, Falmouth\, MA\, 02549\, United States
ATTACH;FMTTYPE=image/png:https://datarecyclingne.com/wp-content/uploads/2025/02/Green-and-Yellow-Illustrated-Reduce-Reuse-Recycle-Poster-1.png
END:VEVENT
BEGIN:VEVENT
DTSTART;TZID=America/New_York:20260509T100000
DTEND;TZID=America/New_York:20260509T140000
DTSTAMP:20260423T102245
CREATED:20260407T192522Z
LAST-MODIFIED:20260408T200418Z
UID:6072-1778320800-1778335200@datarecyclingne.com
SUMMARY:Buttonwood Park Zoo
DESCRIPTION:
URL:https://datarecyclingne.com/event/buttonwood-park-zoo/
LOCATION:Buttonwood Park Zoo\, 425 Hawthorn Street\, New Bedford\, MA\, 02740\, United States
ATTACH;FMTTYPE=image/png:https://datarecyclingne.com/wp-content/uploads/2025/02/Green-and-Yellow-Illustrated-Reduce-Reuse-Recycle-Poster-1.png
END:VEVENT
BEGIN:VEVENT
DTSTART;TZID=America/New_York:20260516T090000
DTEND;TZID=America/New_York:20260516T120000
DTSTAMP:20260423T102245
CREATED:20260407T192522Z
LAST-MODIFIED:20260408T200559Z
UID:6074-1778922000-1778932800@datarecyclingne.com
SUMMARY:Trinity Episcopal Church
DESCRIPTION:
URL:https://datarecyclingne.com/event/trinity-episcopal-church-2/
LOCATION:Trinity Episcopal Church\, 414 Sumner Street\, Stoughton\, MA\, 02072\, United States
ATTACH;FMTTYPE=image/png:https://datarecyclingne.com/wp-content/uploads/2025/02/Green-and-Yellow-Illustrated-Reduce-Reuse-Recycle-Poster-1.png
END:VEVENT
BEGIN:VEVENT
DTSTART;TZID=America/New_York:20260516T090000
DTEND;TZID=America/New_York:20260516T130000
DTSTAMP:20260423T102245
CREATED:20260407T192522Z
LAST-MODIFIED:20260408T200656Z
UID:6075-1778922000-1778936400@datarecyclingne.com
SUMMARY:Spence Farm - Woburn
DESCRIPTION:
URL:https://datarecyclingne.com/event/spence-farm-woburn-2/
LOCATION:Spence Farm\, 41 Wyman St.\, Woburn\, MA\, 01801\, United States
ATTACH;FMTTYPE=image/png:https://datarecyclingne.com/wp-content/uploads/2025/02/Green-and-Yellow-Illustrated-Reduce-Reuse-Recycle-Poster-1.png
END:VEVENT
BEGIN:VEVENT
DTSTART;TZID=America/New_York:20260530T090000
DTEND;TZID=America/New_York:20260530T130000
DTSTAMP:20260423T102245
CREATED:20260407T192922Z
LAST-MODIFIED:20260408T193457Z
UID:6076-1780131600-1780146000@datarecyclingne.com
SUMMARY:Easthampton High School
DESCRIPTION:
URL:https://datarecyclingne.com/event/easthampton-high-school/
LOCATION:Easthampton High School\, 70 Williston Avenue\, Easthampton\, MA\, 02779\, United States
ATTACH;FMTTYPE=image/png:https://datarecyclingne.com/wp-content/uploads/2025/02/Green-and-Yellow-Illustrated-Reduce-Reuse-Recycle-Poster-1.png
END:VEVENT
BEGIN:VEVENT
DTSTART;TZID=America/New_York:20260620T000000
DTEND;TZID=America/New_York:20260620T000000
DTSTAMP:20260423T102245
CREATED:20260407T193322Z
LAST-MODIFIED:20260408T193815Z
UID:6077-1781913600-1781913600@datarecyclingne.com
SUMMARY:Spence Farm
DESCRIPTION:
URL:https://datarecyclingne.com/event/spence-farm/
LOCATION:Spence Farm\, 41 Wyman St.\, Woburn\, MA\, 01801\, United States
ATTACH;FMTTYPE=image/png:https://datarecyclingne.com/wp-content/uploads/2025/02/Green-and-Yellow-Illustrated-Reduce-Reuse-Recycle-Poster-1.png
END:VEVENT
END:VCALENDAR